BEGIN:VCALENDAR
VERSION:2.0
PRODID:icalendar-ruby
CALSCALE:GREGORIAN
BEGIN:VEVENT
DTSTAMP:20210226T043620Z
UID:2f0d6b34-99ad-4062-bf1e-718077c2395f
DTSTART;VALUE=DATE:20200827
DESCRIPTION:Property ID# 486820\, Time: 4:00PM
SUMMARY:Auction for 
END:VEVENT
END:VCALENDAR
