BEGIN:VCALENDAR
VERSION:2.0
PRODID:icalendar-ruby
CALSCALE:GREGORIAN
BEGIN:VEVENT
DTSTAMP:20210226T043647Z
UID:757b0224-e300-4e87-8fe4-61555cb271ea
DTSTART;VALUE=DATE:20200819
DESCRIPTION:Property ID# 487033\, Time: 2:00PM
SUMMARY:Auction for 
END:VEVENT
END:VCALENDAR
