BEGIN:VCALENDAR
VERSION:2.0
PRODID:icalendar-ruby
CALSCALE:GREGORIAN
BEGIN:VEVENT
DTSTAMP:20210226T043601Z
UID:779d42c2-8c85-45cf-bcda-8719231f14b2
DTSTART;VALUE=DATE:20200902
DESCRIPTION:Property ID# 487316\, Time: 4:00PM
SUMMARY:Auction for 
END:VEVENT
END:VCALENDAR
