BEGIN:VCALENDAR
VERSION:2.0
PRODID:icalendar-ruby
CALSCALE:GREGORIAN
BEGIN:VEVENT
DTSTAMP:20210226T043543Z
UID:11e3d816-5a7d-47c0-8a58-fda673180998
DTSTART;VALUE=DATE:20200916
DESCRIPTION:Property ID# 488241\, Time: 4:00PM
SUMMARY:Auction for 388 Rangiora Woodend Road
END:VEVENT
END:VCALENDAR
