BEGIN:VCALENDAR
VERSION:2.0
PRODID:icalendar-ruby
CALSCALE:GREGORIAN
BEGIN:VEVENT
DTSTAMP:20210226T043610Z
UID:ca45a764-e8fc-4125-83ef-7e9394f5cbf5
DTSTART;VALUE=DATE:20200917
DESCRIPTION:Property ID# 488464\, Time: 4:00PM
SUMMARY:Auction for 
END:VEVENT
END:VCALENDAR
