BEGIN:VCALENDAR
VERSION:2.0
PRODID:icalendar-ruby
CALSCALE:GREGORIAN
BEGIN:VEVENT
DTSTAMP:20210226T043554Z
UID:c78da6ee-19bb-42fc-98c6-e3ce54ebbd5b
DTSTART;VALUE=DATE:20200923
DESCRIPTION:Property ID# 488863\, Time: 4:00PM
SUMMARY:Auction for 
END:VEVENT
END:VCALENDAR
