BEGIN:VCALENDAR
VERSION:2.0
PRODID:icalendar-ruby
CALSCALE:GREGORIAN
BEGIN:VEVENT
DTSTAMP:20210226T043547Z
UID:2cf441a5-7e56-42aa-90d8-a3571ed5e4f9
DTSTART;VALUE=DATE:20201015
DESCRIPTION:Property ID# 489646\, Time: 4:00PM
SUMMARY:Auction for 
END:VEVENT
END:VCALENDAR
