BEGIN:VCALENDAR
VERSION:2.0
PRODID:icalendar-ruby
CALSCALE:GREGORIAN
BEGIN:VEVENT
DTSTAMP:20210226T043641Z
UID:316ab5a6-850d-44d3-acdf-8468caf37411
DTSTART;VALUE=DATE:20201028
DESCRIPTION:Property ID# 491945\, Time: 2:00PM
SUMMARY:Auction for 
END:VEVENT
END:VCALENDAR
