BEGIN:VCALENDAR
VERSION:2.0
PRODID:icalendar-ruby
CALSCALE:GREGORIAN
BEGIN:VEVENT
DTSTAMP:20210226T043532Z
UID:0c9787e7-dd32-413a-94fc-d65d1d746829
DTSTART;VALUE=DATE:20201124
DESCRIPTION:Property ID# 493616\, Time: 4:00PM
SUMMARY:Auction for 235 West Denbie Lane
END:VEVENT
END:VCALENDAR
