BEGIN:VCALENDAR
VERSION:2.0
PRODID:icalendar-ruby
CALSCALE:GREGORIAN
BEGIN:VEVENT
DTSTAMP:20210226T043529Z
UID:d4583660-5685-4212-af1b-9ba8da671b3e
DTSTART;VALUE=DATE:20201126
DESCRIPTION:Property ID# 494200\, Time: 4:00PM
SUMMARY:Auction for 124 Cullen Avenue
END:VEVENT
END:VCALENDAR
