BEGIN:VCALENDAR
VERSION:2.0
PRODID:icalendar-ruby
CALSCALE:GREGORIAN
BEGIN:VEVENT
DTSTAMP:20210226T043535Z
UID:21d3601d-5de6-46ba-b0ae-288f11b7b4ee
DTSTART;VALUE=DATE:20201125
DESCRIPTION:Property ID# 494465\, Locatoin: Russley Golf Club 428 Memorial 
 Avenue\, Time: 2:00PM
SUMMARY:Auction for 13 Scotswood Place
END:VEVENT
END:VCALENDAR
