BEGIN:VCALENDAR
VERSION:2.0
PRODID:icalendar-ruby
CALSCALE:GREGORIAN
BEGIN:VEVENT
DTSTAMP:20210226T043627Z
UID:e890b577-93db-4f2a-98ea-3524a8c07557
DTSTART;VALUE=DATE:20201216
DESCRIPTION:Property ID# 495268\, Locatoin:  Auction Wednesday 16 Dec 1:30 
 p.m. Russley Golf Club (Unless Sold Prior) \, Time: 12:00PM
SUMMARY:Auction for 
END:VEVENT
END:VCALENDAR
