BEGIN:VCALENDAR
VERSION:2.0
PRODID:icalendar-ruby
CALSCALE:GREGORIAN
BEGIN:VEVENT
DTSTAMP:20210226T043623Z
UID:7a304da8-a4d4-45b9-a670-03fe8bc4592c
DTSTART;VALUE=DATE:20201218
DESCRIPTION:Property ID# 497401\, Time: 2:00PM
SUMMARY:Auction for 
END:VEVENT
END:VCALENDAR
