BEGIN:VCALENDAR
VERSION:2.0
PRODID:icalendar-ruby
CALSCALE:GREGORIAN
BEGIN:VEVENT
DTSTAMP:20210226T035805Z
UID:43f54aa8-0917-46e6-8c05-73bd0fd33215
DTSTART;VALUE=DATE:20210303
DESCRIPTION:Property ID# 501380\, Time: 2:00PM
SUMMARY:Auction for 2 Campbell Lane
END:VEVENT
END:VCALENDAR
