BEGIN:VCALENDAR
VERSION:2.0
PRODID:icalendar-ruby
CALSCALE:GREGORIAN
BEGIN:VEVENT
DTSTAMP:20210226T043505Z
UID:2e162e77-579c-4aa2-8258-5e8ad65b0534
DTSTART;VALUE=DATE:20210303
DESCRIPTION:Property ID# 501505\, Time: 2:00PM
SUMMARY:Auction for 9 Argo Pl
END:VEVENT
END:VCALENDAR
