BEGIN:VCALENDAR
VERSION:2.0
PRODID:icalendar-ruby
CALSCALE:GREGORIAN
BEGIN:VEVENT
DTSTAMP:20210226T043453Z
UID:0c35b6bf-21d5-4b96-aa14-02dcdf4a5a1c
DTSTART;VALUE=DATE:20210310
DESCRIPTION:Property ID# 502172\, Time: 2:00PM
SUMMARY:Auction for 661 Wolffs Rd
END:VEVENT
END:VCALENDAR
